BEGIN:VCALENDAR
VERSION:2.0
PRODID:-// - ECPv4.3.3//NONSGML v1.0//EN
CALSCALE:GREGORIAN
METHOD:PUBLISH
X-WR-CALNAME:
X-ORIGINAL-URL:https://jamton.se
X-WR-CALDESC:Events for 
BEGIN:VEVENT
DTSTART;TZID=UTC+1:20260429T183000
DTEND;TZID=UTC+1:20260429T200000
DTSTAMP:20260423T103951
CREATED:20260420T181248Z
LAST-MODIFIED:20260420T181248Z
UID:3585-1777487400-1777492800@jamton.se
SUMMARY:Extra insatt årsmöte för Jämtöns Folketshusförening
DESCRIPTION:Extra insatt årsmöte för Jämtöns Folketshusförening\n\nVälkommen önskat sittande styrelse
URL:https://jamton.se/event/extra-insatt-arsmote-for-jamtons-folketshusforening/
END:VEVENT
END:VCALENDAR